BEGIN:VCALENDAR
VERSION:2.0
PRODID:-//SavorMinot //NONSGML Events //EN
CALSCALE:GREGORIAN
X-WR-CALNAME:SavorMinot
BEGIN:VEVENT
CREATED:20230316T173625Z
UID:21796
DTSTART;VALUE=DATE:20260321T000000
DTSTAMP:20260421T123639Z
LOCATION:8 Main Street South\, Minot North Dakota
SUMMARY:Main Street Books Turns 17!
ORGANIZER:Main Street Books
URL;VALUE=URI:https://www.savorminot.com/happening/main-street-books-turns-17-21796/
TRANSP:OPAQUE
END:VEVENT
END:VCALENDAR
