BEGIN:VCALENDAR
VERSION:2.0
PRODID:-//SavorMinot //NONSGML Events //EN
CALSCALE:GREGORIAN
X-WR-CALNAME:SavorMinot
BEGIN:VEVENT
CREATED:20230403T203153Z
UID:21989
DTSTART;VALUE=DATE:20260406T000000
DTSTAMP:20260424T064811Z
LOCATION:3 1st Street Southeast\, Minot North Dakota
SUMMARY:Order Ahead for Easter! Challah Loaves & More @PSB
ORGANIZER:Prairie Sky Breads
URL;VALUE=URI:https://www.savorminot.com/happening/order-ahead-for-easter-challah-loaves-more-psb-21989/
TRANSP:OPAQUE
END:VEVENT
END:VCALENDAR
