BEGIN:VCALENDAR
VERSION:2.0
PRODID:-//SavorMinot //NONSGML Events //EN
CALSCALE:GREGORIAN
X-WR-CALNAME:SavorMinot
BEGIN:VEVENT
CREATED:20231231T140133Z
UID:25227
DTSTART;VALUE=DATE:20260105T000000
DTSTAMP:20260420T081112Z
LOCATION:1712 20th Avenue Southeast\, Minot North Dakota
SUMMARY:Daily Soups & Sunday Special
ORGANIZER:Schatz Crossroads
URL;VALUE=URI:https://www.savorminot.com/happening/daily-soups-sunday-special-9-25227/
TRANSP:OPAQUE
END:VEVENT
END:VCALENDAR
