BEGIN:VCALENDAR
VERSION:2.0
PRODID:-//SavorMinot //NONSGML Events //EN
CALSCALE:GREGORIAN
X-WR-CALNAME:SavorMinot
BEGIN:VEVENT
CREATED:20240128T140121Z
UID:25679
DTSTART;VALUE=DATE:20260205T160000
DTSTAMP:20260424T215306Z
LOCATION:118 1st Avenue Southeast\, Minot North Dakota
SUMMARY:Anyone for Meatballs?
ORGANIZER:Blue Rider
URL;VALUE=URI:https://www.savorminot.com/happening/anyone-for-meatballs-3-25679/
TRANSP:OPAQUE
END:VEVENT
END:VCALENDAR
