BEGIN:VCALENDAR
VERSION:2.0
PRODID:-//SavorMinot //NONSGML Events //EN
CALSCALE:GREGORIAN
X-WR-CALNAME:SavorMinot
BEGIN:VEVENT
CREATED:20240303T140015Z
UID:26189
DTSTART;VALUE=DATE:20260311T000000
DTSTAMP:20260421T034240Z
LOCATION:
SUMMARY:Happy Hour with a View!
ORGANIZER:
URL;VALUE=URI:https://www.savorminot.com/happening/happy-hour-with-a-view-9-26189/
TRANSP:OPAQUE
END:VEVENT
END:VCALENDAR
