BEGIN:VCALENDAR
VERSION:2.0
PRODID:-//SavorMinot //NONSGML Events //EN
CALSCALE:GREGORIAN
X-WR-CALNAME:SavorMinot
BEGIN:VEVENT
CREATED:20240317T140038Z
UID:26354
DTSTART;VALUE=DATE:20260323T000000
DTSTAMP:20260424T094452Z
LOCATION:1712 20th Avenue Southeast\, Minot North Dakota
SUMMARY:Lunch Specials!
ORGANIZER:Schatz Crossroads
URL;VALUE=URI:https://www.savorminot.com/happening/lunch-specials-5-26354/
TRANSP:OPAQUE
END:VEVENT
END:VCALENDAR
