BEGIN:VCALENDAR
VERSION:2.0
PRODID:-//SavorMinot //NONSGML Events //EN
CALSCALE:GREGORIAN
X-WR-CALNAME:SavorMinot
BEGIN:VEVENT
CREATED:20240425T181706Z
UID:26967
DTSTART;VALUE=DATE:20260723T100000
DTSTAMP:20260424T083211Z
LOCATION:2 Main Street North\, Minot North Dakota
SUMMARY:Music and Color!
ORGANIZER:Taube Museum of Art
URL;VALUE=URI:https://www.savorminot.com/happening/music-and-color-26967/
TRANSP:OPAQUE
END:VEVENT
END:VCALENDAR
