BEGIN:VCALENDAR
VERSION:2.0
PRODID:-//SavorMinot //NONSGML Events //EN
CALSCALE:GREGORIAN
X-WR-CALNAME:SavorMinot
BEGIN:VEVENT
CREATED:20240425T181825Z
UID:26968
DTSTART;VALUE=DATE:20260723T130000
DTSTAMP:20260425T233310Z
LOCATION:2 Main Street North\, Minot North Dakota
SUMMARY:Jungle Mania
ORGANIZER:Taube Museum of Art
URL;VALUE=URI:https://www.savorminot.com/happening/jungle-mania-26968/
TRANSP:OPAQUE
END:VEVENT
END:VCALENDAR
