BEGIN:VCALENDAR
VERSION:2.0
PRODID:-//SavorMinot //NONSGML Events //EN
CALSCALE:GREGORIAN
X-WR-CALNAME:SavorMinot
BEGIN:VEVENT
CREATED:20240425T182727Z
UID:26973
DTSTART;VALUE=DATE:20260818T130000
DTSTAMP:20260424T101259Z
LOCATION:2 Main Street North\, Minot North Dakota
SUMMARY:Giant Owls!
ORGANIZER:Taube Museum of Art
URL;VALUE=URI:https://www.savorminot.com/happening/giant-owls-26973/
TRANSP:OPAQUE
END:VEVENT
END:VCALENDAR
