BEGIN:VCALENDAR
VERSION:2.0
PRODID:-//SavorMinot //NONSGML Events //EN
CALSCALE:GREGORIAN
X-WR-CALNAME:SavorMinot
BEGIN:VEVENT
CREATED:20240625T190356Z
UID:27589
DTSTART;VALUE=DATE:20260714T170000
DTSTAMP:20260421T033351Z
LOCATION:8 Main Street South\, Minot North Dakota
SUMMARY:The Loves of Theodore Roosevelt by Edward O’Keefe Book Signing
ORGANIZER:Main Street Books
URL;VALUE=URI:https://www.savorminot.com/happening/the-loves-of-theodore-roosevelt-by-edward-okeefe-book-signing-27589/
TRANSP:OPAQUE
END:VEVENT
END:VCALENDAR
