BEGIN:VCALENDAR
VERSION:2.0
PRODID:-//SavorMinot //NONSGML Events //EN
CALSCALE:GREGORIAN
X-WR-CALNAME:SavorMinot
BEGIN:VEVENT
CREATED:20240726T134815Z
UID:27854
DTSTART;VALUE=DATE:20260812T220000
DTSTAMP:20260420T061442Z
LOCATION:118 1st Avenue Southeast\, Minot North Dakota
SUMMARY:Sammy QaDan
ORGANIZER:Blue Rider
URL;VALUE=URI:https://www.savorminot.com/happening/sammy-qadan-27854/
TRANSP:OPAQUE
END:VEVENT
END:VCALENDAR
