BEGIN:VCALENDAR
VERSION:2.0
PRODID:-//SavorMinot //NONSGML Events //EN
CALSCALE:GREGORIAN
X-WR-CALNAME:SavorMinot
BEGIN:VEVENT
CREATED:20240731T212041Z
UID:27901
DTSTART;VALUE=DATE:20260731T000000
DTSTAMP:20260421T095823Z
LOCATION:2 Main Street North\, Minot North Dakota
SUMMARY:Polymer Skies by Debbie Kauffman
ORGANIZER:Taube Museum of Art
URL;VALUE=URI:https://www.savorminot.com/happening/polymer-skies-by-debbie-kauffman-27901/
TRANSP:OPAQUE
END:VEVENT
END:VCALENDAR
