BEGIN:VCALENDAR
VERSION:2.0
PRODID:-//SavorMinot //NONSGML Events //EN
CALSCALE:GREGORIAN
X-WR-CALNAME:SavorMinot
BEGIN:VEVENT
CREATED:20240810T140216Z
UID:27997
DTSTART;VALUE=DATE:20260817T000000
DTSTAMP:20260422T083232Z
LOCATION:117 Pleasant Avenue North\, Surrey North Dakota
SUMMARY:Lunch Specials in Surrey!
ORGANIZER:Big Dog Saloon
URL;VALUE=URI:https://www.savorminot.com/happening/lunch-specials-in-surrey-12-27997/
TRANSP:OPAQUE
END:VEVENT
END:VCALENDAR
