BEGIN:VCALENDAR
VERSION:2.0
PRODID:-//SavorMinot //NONSGML Events //EN
CALSCALE:GREGORIAN
X-WR-CALNAME:SavorMinot
BEGIN:VEVENT
CREATED:20240917T140237Z
UID:28345
DTSTART;VALUE=DATE:20260928T190000
DTSTAMP:20260420T093314Z
LOCATION:118 1st Avenue Southeast\, Minot North Dakota
SUMMARY:Craft Night!
ORGANIZER:Blue Rider
URL;VALUE=URI:https://www.savorminot.com/happening/craft-night-29-28345/
TRANSP:OPAQUE
END:VEVENT
END:VCALENDAR
