BEGIN:VCALENDAR
VERSION:2.0
PRODID:-//SavorMinot //NONSGML Events //EN
CALSCALE:GREGORIAN
X-WR-CALNAME:SavorMinot
BEGIN:VEVENT
CREATED:20240930T140134Z
UID:28432
DTSTART;VALUE=DATE:20261007T000000
DTSTAMP:20260424T103457Z
LOCATION:3 1st Street Southeast\, Minot North Dakota
SUMMARY:The Rachel (and the rest of this week’s features)
ORGANIZER:Prairie Sky Breads
URL;VALUE=URI:https://www.savorminot.com/happening/the-rachel-and-the-rest-of-this-weeks-features-28432/
TRANSP:OPAQUE
END:VEVENT
END:VCALENDAR
