BEGIN:VCALENDAR
VERSION:2.0
PRODID:-//SavorMinot //NONSGML Events //EN
CALSCALE:GREGORIAN
X-WR-CALNAME:SavorMinot
BEGIN:VEVENT
CREATED:20240930T205809Z
UID:28441
DTSTART;VALUE=DATE:20261030T210000
DTSTAMP:20260422T173527Z
LOCATION:
SUMMARY:Tyler Schwan & The Rythmrunners
ORGANIZER:
URL;VALUE=URI:https://www.savorminot.com/happening/tyler-schwan-the-rythmrunners-28441/
TRANSP:OPAQUE
END:VEVENT
END:VCALENDAR
