BEGIN:VCALENDAR
VERSION:2.0
PRODID:-//SavorMinot //NONSGML Events //EN
CALSCALE:GREGORIAN
X-WR-CALNAME:SavorMinot
BEGIN:VEVENT
CREATED:20241011T122533Z
UID:28530
DTSTART;VALUE=DATE:20261021T000000
DTSTAMP:20260420T075750Z
LOCATION:2 Main Street North\, Minot North Dakota
SUMMARY:Animal Alphabet Alliteration
ORGANIZER:Taube Museum of Art
URL;VALUE=URI:https://www.savorminot.com/happening/animal-alphabet-alliteration-28530/
TRANSP:OPAQUE
END:VEVENT
END:VCALENDAR
