BEGIN:VCALENDAR
VERSION:2.0
PRODID:-//SavorMinot //NONSGML Events //EN
CALSCALE:GREGORIAN
X-WR-CALNAME:SavorMinot
BEGIN:VEVENT
CREATED:20241105T140033Z
UID:28788
DTSTART;VALUE=DATE:20261116T190000
DTSTAMP:20260420T080946Z
LOCATION:118 1st Avenue Southeast\, Minot North Dakota
SUMMARY:Craft Night!
ORGANIZER:Blue Rider
URL;VALUE=URI:https://www.savorminot.com/happening/craft-night-36-28788/
TRANSP:OPAQUE
END:VEVENT
END:VCALENDAR
