BEGIN:VCALENDAR
VERSION:2.0
PRODID:-//SavorMinot //NONSGML Events //EN
CALSCALE:GREGORIAN
X-WR-CALNAME:SavorMinot
BEGIN:VEVENT
CREATED:20241203T140055Z
UID:29002
DTSTART;VALUE=DATE:20261214T190000
DTSTAMP:20260420T105834Z
LOCATION:118 1st Avenue Southeast\, Minot North Dakota
SUMMARY:Craft Night!
ORGANIZER:Blue Rider
URL;VALUE=URI:https://www.savorminot.com/happening/craft-night-40-29002/
TRANSP:OPAQUE
END:VEVENT
END:VCALENDAR
