BEGIN:VCALENDAR
VERSION:2.0
PRODID:-//SavorMinot //NONSGML Events //EN
CALSCALE:GREGORIAN
X-WR-CALNAME:SavorMinot
BEGIN:VEVENT
CREATED:20241211T215916Z
UID:29079
DTSTART;VALUE=DATE:20261215T000000
DTSTAMP:20260424T101158Z
LOCATION:12 3rd Street Southeast\, Minot North Dakota
SUMMARY:The Christmas Menu!
ORGANIZER:Arny&#8217\;s 2.0
URL;VALUE=URI:https://www.savorminot.com/happening/the-christmas-menu-29079/
TRANSP:OPAQUE
END:VEVENT
END:VCALENDAR
