BEGIN:VCALENDAR
VERSION:2.0
PRODID:-//SavorMinot //NONSGML Events //EN
CALSCALE:GREGORIAN
X-WR-CALNAME:SavorMinot
BEGIN:VEVENT
CREATED:20241231T144549Z
UID:29126
DTSTART;VALUE=DATE:20260110T183000
DTSTAMP:20260424T124836Z
LOCATION:2 Main Street North\, Minot North Dakota
SUMMARY:Living Art Exhibition
ORGANIZER:Taube Museum of Art
URL;VALUE=URI:https://www.savorminot.com/happening/living-art-exhibition-29126/
TRANSP:OPAQUE
END:VEVENT
END:VCALENDAR
