BEGIN:VCALENDAR
VERSION:2.0
PRODID:-//SavorMinot //NONSGML Events //EN
CALSCALE:GREGORIAN
X-WR-CALNAME:SavorMinot
BEGIN:VEVENT
CREATED:20250109T000514Z
UID:29373
DTSTART;VALUE=DATE:20260117T150000
DTSTAMP:20260424T105658Z
LOCATION:510 Central Avenue East\, Minot North Dakota
SUMMARY:Scott (AKA Bock) Poking
ORGANIZER:Atypical Brewery &amp\; Barrelworks
URL;VALUE=URI:https://www.savorminot.com/happening/scott-aka-bock-poking-29373/
TRANSP:OPAQUE
END:VEVENT
END:VCALENDAR
