BEGIN:VCALENDAR
VERSION:2.0
PRODID:-//SavorMinot //NONSGML Events //EN
CALSCALE:GREGORIAN
X-WR-CALNAME:SavorMinot
BEGIN:VEVENT
CREATED:20250507T140022Z
UID:29909
DTSTART;VALUE=DATE:20260526T093000
DTSTAMP:20260420T093204Z
LOCATION:2 Main Street North\, Minot North Dakota
SUMMARY:A Start in Art!
ORGANIZER:Taube Museum of Art
URL;VALUE=URI:https://www.savorminot.com/happening/a-start-in-art-22-29909/
TRANSP:OPAQUE
END:VEVENT
END:VCALENDAR
