BEGIN:VCALENDAR
VERSION:2.0
PRODID:-//SavorMinot //NONSGML Events //EN
CALSCALE:GREGORIAN
X-WR-CALNAME:SavorMinot
BEGIN:VEVENT
CREATED:20250604T022556Z
UID:30057
DTSTART;VALUE=DATE:20260614T220000
DTSTAMP:20260424T140536Z
LOCATION:118 1st Avenue Southeast\, Minot North Dakota
SUMMARY:Magic City Music Fest After Party w/ Luke Hendrickson
ORGANIZER:Blue Rider
URL;VALUE=URI:https://www.savorminot.com/happening/minot-music-fest-after-party-w-luke-hendrickson-30057/
TRANSP:OPAQUE
END:VEVENT
END:VCALENDAR
