BEGIN:VCALENDAR
VERSION:2.0
PRODID:-//SavorMinot //NONSGML Events //EN
CALSCALE:GREGORIAN
X-WR-CALNAME:SavorMinot
BEGIN:VEVENT
CREATED:20250620T120430Z
UID:30139
DTSTART;VALUE=DATE:20260626T000000
DTSTAMP:20260420T081119Z
LOCATION:1020 South Broadway\, Minot North Dakota
SUMMARY:2025 Midsummer Festival
ORGANIZER:Visit Minot
URL;VALUE=URI:https://www.savorminot.com/happening/2025-midsummer-festival-30139/
TRANSP:OPAQUE
END:VEVENT
END:VCALENDAR
