BEGIN:VCALENDAR
VERSION:2.0
PRODID:-//SavorMinot //NONSGML Events //EN
CALSCALE:GREGORIAN
X-WR-CALNAME:SavorMinot
BEGIN:VEVENT
CREATED:20250701T015916Z
UID:30215
DTSTART;VALUE=DATE:20260721T190000
DTSTAMP:20260421T065705Z
LOCATION:510 Central Avenue East\, Minot North Dakota
SUMMARY:Live Music! | Socktopus | Cold Sweat
ORGANIZER:Atypical Brewery &amp\; Barrelworks
URL;VALUE=URI:https://www.savorminot.com/happening/live-music-socktopus-cold-sweat-30215/
TRANSP:OPAQUE
END:VEVENT
END:VCALENDAR
