BEGIN:VCALENDAR
VERSION:2.0
PRODID:-//SavorMinot //NONSGML Events //EN
CALSCALE:GREGORIAN
X-WR-CALNAME:SavorMinot
BEGIN:VEVENT
CREATED:20250724T023043Z
UID:30306
DTSTART;VALUE=DATE:20260806T170000
DTSTAMP:20260424T215751Z
LOCATION:510 Central Avenue East\, Minot North Dakota
SUMMARY:Show’erz & Grow’erz Farm’erz Bazaar
ORGANIZER:Atypical Brewery &amp\; Barrelworks
URL;VALUE=URI:https://www.savorminot.com/happening/showerz-growerz-farmerz-bazaar-30306/
TRANSP:OPAQUE
END:VEVENT
END:VCALENDAR
