BEGIN:VCALENDAR
VERSION:2.0
PRODID:-//SavorMinot //NONSGML Events //EN
CALSCALE:GREGORIAN
X-WR-CALNAME:SavorMinot
BEGIN:VEVENT
CREATED:20250810T114406Z
UID:30373
DTSTART;VALUE=DATE:20260817T160000
DTSTAMP:20260425T195857Z
LOCATION:110 East Central Avenue\, Minot North Dakota
SUMMARY:The Grand Opening Celebration!
ORGANIZER:Citizens Alley
URL;VALUE=URI:https://www.savorminot.com/happening/the-grand-opening-celebration-30373/
TRANSP:OPAQUE
END:VEVENT
END:VCALENDAR
