BEGIN:VCALENDAR
VERSION:2.0
PRODID:-//SavorMinot //NONSGML Events //EN
CALSCALE:GREGORIAN
X-WR-CALNAME:SavorMinot
BEGIN:VEVENT
CREATED:20250810T115053Z
UID:30375
DTSTART;VALUE=DATE:20260904T190000
DTSTAMP:20260425T195432Z
LOCATION:318 1st Avenue Northeast\, Minot North Dakota
SUMMARY:Silobration Street Dance
ORGANIZER:Union Silos
URL;VALUE=URI:https://www.savorminot.com/happening/silobration-street-dance-30375/
TRANSP:OPAQUE
END:VEVENT
END:VCALENDAR
