BEGIN:VCALENDAR
VERSION:2.0
PRODID:-//SavorMinot //NONSGML Events //EN
CALSCALE:GREGORIAN
X-WR-CALNAME:SavorMinot
BEGIN:VEVENT
CREATED:20250928T144626Z
UID:30603
DTSTART;VALUE=DATE:20261021T183000
DTSTAMP:20260421T113704Z
LOCATION:
SUMMARY:The Future of Public Lands
ORGANIZER:Badlands Conservation Alliance
URL;VALUE=URI:https://www.savorminot.com/happening/the-future-of-public-lands-30603/
TRANSP:OPAQUE
END:VEVENT
END:VCALENDAR
