BEGIN:VCALENDAR
VERSION:2.0
PRODID:-//SavorMinot //NONSGML Events //EN
CALSCALE:GREGORIAN
X-WR-CALNAME:SavorMinot
BEGIN:VEVENT
CREATED:20251009T140000Z
UID:30662
DTSTART;VALUE=DATE:20261019T160000
DTSTAMP:20260425T033958Z
LOCATION:118 1st Avenue Southeast\, Minot North Dakota
SUMMARY:Pull Tab Happy Hour!
ORGANIZER:Blue Rider
URL;VALUE=URI:https://www.savorminot.com/happening/pull-tab-happy-hour-60-30662/
TRANSP:OPAQUE
END:VEVENT
END:VCALENDAR
