BEGIN:VCALENDAR
VERSION:2.0
PRODID:-//SavorMinot //NONSGML Events //EN
CALSCALE:GREGORIAN
X-WR-CALNAME:SavorMinot
BEGIN:VEVENT
CREATED:20260123T201948Z
UID:31203
DTSTART;VALUE=DATE:20260605T210000
DTSTAMP:20260420T093435Z
LOCATION:118 1st Avenue Southeast\, Minot North Dakota
SUMMARY:Eli Gardiner!
ORGANIZER:Blue Rider
URL;VALUE=URI:https://www.savorminot.com/happening/eli-gardiner-31203/
TRANSP:OPAQUE
END:VEVENT
END:VCALENDAR
